BEGIN:VCALENDAR
VERSION:2.0
PRODID:-//Јавна библиотека Дољевац - ECPv5.1.6//NONSGML v1.0//EN
CALSCALE:GREGORIAN
METHOD:PUBLISH
X-WR-CALNAME:Јавна библиотека Дољевац
X-ORIGINAL-URL:https://bibliotekadoljevac.org
X-WR-CALDESC:Events for Јавна библиотека Дољевац
BEGIN:VTIMEZONE
TZID:UTC
BEGIN:STANDARD
TZOFFSETFROM:+0000
TZOFFSETTO:+0000
TZNAME:UTC
DTSTART:20220101T000000
END:STANDARD
END:VTIMEZONE
BEGIN:VEVENT
DTSTART;TZID=UTC:20220628T080000
DTEND;TZID=UTC:20220629T080000
DTSTAMP:20260419T142257
CREATED:20220628T115148Z
LAST-MODIFIED:20220628T115231Z
UID:7869-1656403200-1656489600@bibliotekadoljevac.org
SUMMARY:ВИДОВДАНСКИ ОРДЕН\, ЈАВНОЈ БИБЛИОТЕЦИ ДОЉЕВАЦ.
DESCRIPTION:Јавна библиотека Дољевац\, на додели видовданских одликовања.\nПо позиву председника Републике Србије господина Александра Вучића\, са великим задовољством је примила вест о одликовању које ће добити Библиотека као и о присуствовању на церемонији видовданских одликовања и свечаном пријему поводом Видовдана и ступања на дужности председника Републике у другом мандату.\nЈавној библиотеци ће бити додељен Орден за заслуге у развијању културе и културног живота грађана општине Дољевац.\nЦеремонији ће присуствовати\, директор Боги Митић.\nУторак 28. јун 2022.године у 18.00 часова.
URL:https://bibliotekadoljevac.org/dogadjaji/vidovdanski-orden-javnoj-biblioteci-doljevac/
END:VEVENT
END:VCALENDAR